BEGIN:VCALENDAR
VERSION:2.0
PRODID:-//Ecole A.B.C.M. « Unseri Schuel » - ECPv6.15.20//NONSGML v1.0//EN
CALSCALE:GREGORIAN
METHOD:PUBLISH
X-ORIGINAL-URL:https://www.abcm-unseri-schuel.org
X-WR-CALDESC:Évènements pour Ecole A.B.C.M. « Unseri Schuel »
REFRESH-INTERVAL;VALUE=DURATION:PT1H
X-Robots-Tag:noindex
X-PUBLISHED-TTL:PT1H
BEGIN:VTIMEZONE
TZID:Europe/Paris
BEGIN:DAYLIGHT
TZOFFSETFROM:+0100
TZOFFSETTO:+0200
TZNAME:CEST
DTSTART:20210328T010000
END:DAYLIGHT
BEGIN:STANDARD
TZOFFSETFROM:+0200
TZOFFSETTO:+0100
TZNAME:CET
DTSTART:20211031T010000
END:STANDARD
BEGIN:DAYLIGHT
TZOFFSETFROM:+0100
TZOFFSETTO:+0200
TZNAME:CEST
DTSTART:20220327T010000
END:DAYLIGHT
BEGIN:STANDARD
TZOFFSETFROM:+0200
TZOFFSETTO:+0100
TZNAME:CET
DTSTART:20221030T010000
END:STANDARD
BEGIN:DAYLIGHT
TZOFFSETFROM:+0100
TZOFFSETTO:+0200
TZNAME:CEST
DTSTART:20230326T010000
END:DAYLIGHT
BEGIN:STANDARD
TZOFFSETFROM:+0200
TZOFFSETTO:+0100
TZNAME:CET
DTSTART:20231029T010000
END:STANDARD
END:VTIMEZONE
BEGIN:VEVENT
DTSTART;TZID=Europe/Paris:20220219T090000
DTEND;TZID=Europe/Paris:20220219T120000
DTSTAMP:20260421T124208
CREATED:20210831T203232Z
LAST-MODIFIED:20210914T214640Z
UID:4237-1645261200-1645272000@www.abcm-unseri-schuel.org
SUMMARY:Petits travaux
DESCRIPTION:
URL:https://www.abcm-unseri-schuel.org/event/menages-petits-travaux-3/
END:VEVENT
BEGIN:VEVENT
DTSTART;TZID=Europe/Paris:20220219T140000
DTEND;TZID=Europe/Paris:20220219T170000
DTSTAMP:20260421T124208
CREATED:20210914T214727Z
LAST-MODIFIED:20210914T214727Z
UID:4433-1645279200-1645290000@www.abcm-unseri-schuel.org
SUMMARY:Ménage
DESCRIPTION:
URL:https://www.abcm-unseri-schuel.org/event/menage/
LOCATION:Ecole ABCM Schweighouse-sur-Moder\, 79A Route d'Ohlungen\, Schweighouse-sur-Moder\, 67590\, France
ORGANIZER;CN="CA CCB":MAILTO:ca@abcm-unseri-schuel.org
END:VEVENT
END:VCALENDAR