BEGIN:VCALENDAR
VERSION:2.0
PRODID:-//Ecole A.B.C.M. « Unseri Schuel » - ECPv6.15.20//NONSGML v1.0//EN
CALSCALE:GREGORIAN
METHOD:PUBLISH
X-ORIGINAL-URL:https://www.abcm-unseri-schuel.org
X-WR-CALDESC:Évènements pour Ecole A.B.C.M. « Unseri Schuel »
REFRESH-INTERVAL;VALUE=DURATION:PT1H
X-Robots-Tag:noindex
X-PUBLISHED-TTL:PT1H
BEGIN:VTIMEZONE
TZID:Europe/Paris
BEGIN:DAYLIGHT
TZOFFSETFROM:+0100
TZOFFSETTO:+0200
TZNAME:CEST
DTSTART:20200329T010000
END:DAYLIGHT
BEGIN:STANDARD
TZOFFSETFROM:+0200
TZOFFSETTO:+0100
TZNAME:CET
DTSTART:20201025T010000
END:STANDARD
BEGIN:DAYLIGHT
TZOFFSETFROM:+0100
TZOFFSETTO:+0200
TZNAME:CEST
DTSTART:20210328T010000
END:DAYLIGHT
BEGIN:STANDARD
TZOFFSETFROM:+0200
TZOFFSETTO:+0100
TZNAME:CET
DTSTART:20211031T010000
END:STANDARD
BEGIN:DAYLIGHT
TZOFFSETFROM:+0100
TZOFFSETTO:+0200
TZNAME:CEST
DTSTART:20220327T010000
END:DAYLIGHT
BEGIN:STANDARD
TZOFFSETFROM:+0200
TZOFFSETTO:+0100
TZNAME:CET
DTSTART:20221030T010000
END:STANDARD
END:VTIMEZONE
BEGIN:VEVENT
DTSTART;TZID=Europe/Paris:20211203T180000
DTEND;TZID=Europe/Paris:20211203T230000
DTSTAMP:20260421T151354
CREATED:20210831T203009Z
LAST-MODIFIED:20211129T204345Z
UID:4231-1638554400-1638572400@www.abcm-unseri-schuel.org
SUMMARY:Fête de Noël
DESCRIPTION:
URL:https://www.abcm-unseri-schuel.org/event/fete-de-noel/
END:VEVENT
BEGIN:VEVENT
DTSTART;TZID=Europe/Paris:20211204T090000
DTEND;TZID=Europe/Paris:20211204T120000
DTSTAMP:20260421T151354
CREATED:20210831T203149Z
LAST-MODIFIED:20210914T214945Z
UID:4235-1638608400-1638619200@www.abcm-unseri-schuel.org
SUMMARY:Petits travaux
DESCRIPTION:
URL:https://www.abcm-unseri-schuel.org/event/menages-petits-travaux-2/
END:VEVENT
BEGIN:VEVENT
DTSTART;TZID=Europe/Paris:20211204T140000
DTEND;TZID=Europe/Paris:20211204T170000
DTSTAMP:20260421T151354
CREATED:20210914T215016Z
LAST-MODIFIED:20210914T215016Z
UID:4439-1638626400-1638637200@www.abcm-unseri-schuel.org
SUMMARY:Ménage
DESCRIPTION:
URL:https://www.abcm-unseri-schuel.org/event/menage-3/
LOCATION:Ecole ABCM Schweighouse-sur-Moder\, 79A Route d'Ohlungen\, Schweighouse-sur-Moder\, 67590\, France
END:VEVENT
BEGIN:VEVENT
DTSTART;TZID=Europe/Paris:20211207T200000
DTEND;TZID=Europe/Paris:20211207T213000
DTSTAMP:20260421T151354
CREATED:20210914T214208Z
LAST-MODIFIED:20210914T214450Z
UID:4428-1638907200-1638912600@www.abcm-unseri-schuel.org
SUMMARY:Pot Noël CA Collectif - Maitresses - Equipe Périscolaire
DESCRIPTION:
URL:https://www.abcm-unseri-schuel.org/event/pot-noel-collectif/
LOCATION:Ecole ABCM Schweighouse-sur-Moder\, 79A Route d'Ohlungen\, Schweighouse-sur-Moder\, 67590\, France
ORGANIZER;CN="CA CCB":MAILTO:ca@abcm-unseri-schuel.org
END:VEVENT
END:VCALENDAR