BEGIN:VCALENDAR
VERSION:2.0
PRODID:-//Ecole A.B.C.M. « Unseri Schuel » - ECPv6.15.20//NONSGML v1.0//EN
CALSCALE:GREGORIAN
METHOD:PUBLISH
X-ORIGINAL-URL:https://www.abcm-unseri-schuel.org
X-WR-CALDESC:Évènements pour Ecole A.B.C.M. « Unseri Schuel »
REFRESH-INTERVAL;VALUE=DURATION:PT1H
X-Robots-Tag:noindex
X-PUBLISHED-TTL:PT1H
BEGIN:VTIMEZONE
TZID:Europe/Paris
BEGIN:DAYLIGHT
TZOFFSETFROM:+0100
TZOFFSETTO:+0200
TZNAME:CEST
DTSTART:20190331T010000
END:DAYLIGHT
BEGIN:STANDARD
TZOFFSETFROM:+0200
TZOFFSETTO:+0100
TZNAME:CET
DTSTART:20191027T010000
END:STANDARD
BEGIN:DAYLIGHT
TZOFFSETFROM:+0100
TZOFFSETTO:+0200
TZNAME:CEST
DTSTART:20200329T010000
END:DAYLIGHT
BEGIN:STANDARD
TZOFFSETFROM:+0200
TZOFFSETTO:+0100
TZNAME:CET
DTSTART:20201025T010000
END:STANDARD
BEGIN:DAYLIGHT
TZOFFSETFROM:+0100
TZOFFSETTO:+0200
TZNAME:CEST
DTSTART:20210328T010000
END:DAYLIGHT
BEGIN:STANDARD
TZOFFSETFROM:+0200
TZOFFSETTO:+0100
TZNAME:CET
DTSTART:20211031T010000
END:STANDARD
BEGIN:DAYLIGHT
TZOFFSETFROM:+0100
TZOFFSETTO:+0200
TZNAME:CEST
DTSTART:20220327T010000
END:DAYLIGHT
BEGIN:STANDARD
TZOFFSETFROM:+0200
TZOFFSETTO:+0100
TZNAME:CET
DTSTART:20221030T010000
END:STANDARD
END:VTIMEZONE
BEGIN:VEVENT
DTSTART;TZID=Europe/Paris:20201201T190000
DTEND;TZID=Europe/Paris:20201201T190000
DTSTAMP:20260422T070105
CREATED:20201210T104440Z
LAST-MODIFIED:20201210T104440Z
UID:928-1606849200-1606849200@www.abcm-unseri-schuel.org
SUMMARY:Réunion Membre du Bureau du CA
DESCRIPTION:
URL:https://www.abcm-unseri-schuel.org/event/reunion-membre-du-bureau-du-ca/
LOCATION:Ecole ABCM Schweighouse-sur-Moder\, 79A Route d'Ohlungen\, Schweighouse-sur-Moder\, 67590\, France
ORGANIZER;CN="CA CCB":MAILTO:ca@abcm-unseri-schuel.org
END:VEVENT
BEGIN:VEVENT
DTSTART;TZID=Europe/Paris:20201205T083000
DTEND;TZID=Europe/Paris:20201205T113000
DTSTAMP:20260422T070105
CREATED:20201210T103819Z
LAST-MODIFIED:20201210T103819Z
UID:914-1607157000-1607167800@www.abcm-unseri-schuel.org
SUMMARY:Demi-journée Ménage & Bricolage
DESCRIPTION:
URL:https://www.abcm-unseri-schuel.org/event/demi-journee-menage-bricolage/
LOCATION:Ecole ABCM Schweighouse-sur-Moder\, 79A Route d'Ohlungen\, Schweighouse-sur-Moder\, 67590\, France
ORGANIZER;CN="CA CCB":MAILTO:ca@abcm-unseri-schuel.org
END:VEVENT
BEGIN:VEVENT
DTSTART;TZID=Europe/Paris:20201208T203000
DTEND;TZID=Europe/Paris:20201208T235900
DTSTAMP:20260422T070105
CREATED:20201210T103649Z
LAST-MODIFIED:20201210T103723Z
UID:911-1607459400-1607471940@www.abcm-unseri-schuel.org
SUMMARY:Réunion CA
DESCRIPTION:
URL:https://www.abcm-unseri-schuel.org/event/photo-pour-loperation-noel/
LOCATION:Ecole ABCM Schweighouse-sur-Moder\, 79A Route d'Ohlungen\, Schweighouse-sur-Moder\, 67590\, France
ORGANIZER;CN="CA CCB":MAILTO:ca@abcm-unseri-schuel.org
END:VEVENT
BEGIN:VEVENT
DTSTART;TZID=Europe/Paris:20201212T083000
DTEND;TZID=Europe/Paris:20201212T110000
DTSTAMP:20260422T070105
CREATED:20201210T101625Z
LAST-MODIFIED:20201210T101731Z
UID:904-1607761800-1607770800@www.abcm-unseri-schuel.org
SUMMARY:Demi-journée Ménage
DESCRIPTION:
URL:https://www.abcm-unseri-schuel.org/event/demi-journee-menage/
LOCATION:Ecole ABCM Schweighouse-sur-Moder\, 79A Route d'Ohlungen\, Schweighouse-sur-Moder\, 67590\, France
END:VEVENT
BEGIN:VEVENT
DTSTART;TZID=Europe/Paris:20201217T160000
DTEND;TZID=Europe/Paris:20201217T180000
DTSTAMP:20260422T070105
CREATED:20201210T110834Z
LAST-MODIFIED:20201210T110834Z
UID:932-1608220800-1608228000@www.abcm-unseri-schuel.org
SUMMARY:Livraison Opération Noël !
DESCRIPTION:
URL:https://www.abcm-unseri-schuel.org/event/livraison-operation-noel/
LOCATION:Ecole ABCM Schweighouse-sur-Moder\, 79A Route d'Ohlungen\, Schweighouse-sur-Moder\, 67590\, France
ORGANIZER;CN="CA CCB":MAILTO:ca@abcm-unseri-schuel.org
END:VEVENT
BEGIN:VEVENT
DTSTART;TZID=Europe/Paris:20201217T203000
DTEND;TZID=Europe/Paris:20201217T233000
DTSTAMP:20260422T070105
CREATED:20201210T102404Z
LAST-MODIFIED:20201210T102437Z
UID:906-1608237000-1608247800@www.abcm-unseri-schuel.org
SUMMARY:Réunion du CA
DESCRIPTION:
URL:https://www.abcm-unseri-schuel.org/event/reunion-du-ca/
LOCATION:Ecole ABCM Schweighouse-sur-Moder\, 79A Route d'Ohlungen\, Schweighouse-sur-Moder\, 67590\, France
ORGANIZER;CN="CA CCB":MAILTO:ca@abcm-unseri-schuel.org
END:VEVENT
BEGIN:VEVENT
DTSTART;VALUE=DATE:20201218
DTEND;VALUE=DATE:20201219
DTSTAMP:20260422T070105
CREATED:20201210T101156Z
LAST-MODIFIED:20201210T101800Z
UID:900-1608249600-1608335999@www.abcm-unseri-schuel.org
SUMMARY:Passage du Père Noël à l'école
DESCRIPTION:
URL:https://www.abcm-unseri-schuel.org/event/passage-du-pere-noel-a-lecole/
LOCATION:Ecole ABCM Schweighouse-sur-Moder\, 79A Route d'Ohlungen\, Schweighouse-sur-Moder\, 67590\, France
END:VEVENT
BEGIN:VEVENT
DTSTART;VALUE=DATE:20201219
DTEND;VALUE=DATE:20210104
DTSTAMP:20260422T070105
CREATED:20201210T111026Z
LAST-MODIFIED:20201215T102853Z
UID:935-1608336000-1609718399@www.abcm-unseri-schuel.org
SUMMARY:Vacances de Noël
DESCRIPTION:
URL:https://www.abcm-unseri-schuel.org/event/vacances-de-noel/
END:VEVENT
END:VCALENDAR