BEGIN:VCALENDAR
VERSION:2.0
PRODID:-//Ecole A.B.C.M. « Unseri Schuel » - ECPv6.15.20//NONSGML v1.0//EN
CALSCALE:GREGORIAN
METHOD:PUBLISH
X-WR-CALNAME:Ecole A.B.C.M. « Unseri Schuel »
X-ORIGINAL-URL:https://www.abcm-unseri-schuel.org
X-WR-CALDESC:Évènements pour Ecole A.B.C.M. « Unseri Schuel »
REFRESH-INTERVAL;VALUE=DURATION:PT1H
X-Robots-Tag:noindex
X-PUBLISHED-TTL:PT1H
BEGIN:VTIMEZONE
TZID:Europe/Paris
BEGIN:DAYLIGHT
TZOFFSETFROM:+0100
TZOFFSETTO:+0200
TZNAME:CEST
DTSTART:20210328T010000
END:DAYLIGHT
BEGIN:STANDARD
TZOFFSETFROM:+0200
TZOFFSETTO:+0100
TZNAME:CET
DTSTART:20211031T010000
END:STANDARD
BEGIN:DAYLIGHT
TZOFFSETFROM:+0100
TZOFFSETTO:+0200
TZNAME:CEST
DTSTART:20220327T010000
END:DAYLIGHT
BEGIN:STANDARD
TZOFFSETFROM:+0200
TZOFFSETTO:+0100
TZNAME:CET
DTSTART:20221030T010000
END:STANDARD
BEGIN:DAYLIGHT
TZOFFSETFROM:+0100
TZOFFSETTO:+0200
TZNAME:CEST
DTSTART:20230326T010000
END:DAYLIGHT
BEGIN:STANDARD
TZOFFSETFROM:+0200
TZOFFSETTO:+0100
TZNAME:CET
DTSTART:20231029T010000
END:STANDARD
END:VTIMEZONE
BEGIN:VEVENT
DTSTART;VALUE=DATE:20220411
DTEND;VALUE=DATE:20220415
DTSTAMP:20260421T112338
CREATED:20220327T103924Z
LAST-MODIFIED:20220327T104047Z
UID:5395-1649635200-1649980799@www.abcm-unseri-schuel.org
SUMMARY:Mini Camp avril 2022 « Vive le Printemps»
DESCRIPTION:Bulletin d’inscription Mini Camp avril 2022 \n  \n 
URL:https://www.abcm-unseri-schuel.org/event/mini-camp-avril-2022-vive-le-printemps/
LOCATION:Ecole ABCM Schweighouse-sur-Moder\, 79A Route d'Ohlungen\, Schweighouse-sur-Moder\, 67590\, France
ATTACH;FMTTYPE=image/jpeg:https://www.abcm-unseri-schuel.org/wp-content/uploads/2022/03/1.jpg
ORGANIZER;CN="CA CCB":MAILTO:ca@abcm-unseri-schuel.org
END:VEVENT
END:VCALENDAR