BEGIN:VCALENDAR
VERSION:2.0
PRODID:-//Ecole A.B.C.M. « Unseri Schuel » - ECPv6.15.20//NONSGML v1.0//EN
CALSCALE:GREGORIAN
METHOD:PUBLISH
X-ORIGINAL-URL:https://www.abcm-unseri-schuel.org
X-WR-CALDESC:Évènements pour Ecole A.B.C.M. « Unseri Schuel »
REFRESH-INTERVAL;VALUE=DURATION:PT1H
X-Robots-Tag:noindex
X-PUBLISHED-TTL:PT1H
BEGIN:VTIMEZONE
TZID:Europe/Paris
BEGIN:DAYLIGHT
TZOFFSETFROM:+0100
TZOFFSETTO:+0200
TZNAME:CEST
DTSTART:20200329T010000
END:DAYLIGHT
BEGIN:STANDARD
TZOFFSETFROM:+0200
TZOFFSETTO:+0100
TZNAME:CET
DTSTART:20201025T010000
END:STANDARD
BEGIN:DAYLIGHT
TZOFFSETFROM:+0100
TZOFFSETTO:+0200
TZNAME:CEST
DTSTART:20210328T010000
END:DAYLIGHT
BEGIN:STANDARD
TZOFFSETFROM:+0200
TZOFFSETTO:+0100
TZNAME:CET
DTSTART:20211031T010000
END:STANDARD
BEGIN:DAYLIGHT
TZOFFSETFROM:+0100
TZOFFSETTO:+0200
TZNAME:CEST
DTSTART:20220327T010000
END:DAYLIGHT
BEGIN:STANDARD
TZOFFSETFROM:+0200
TZOFFSETTO:+0100
TZNAME:CET
DTSTART:20221030T010000
END:STANDARD
END:VTIMEZONE
BEGIN:VEVENT
DTSTART;VALUE=DATE:20210107
DTEND;VALUE=DATE:20210108
DTSTAMP:20260422T070111
CREATED:20210104T123608Z
LAST-MODIFIED:20210104T123608Z
UID:1458-1609977600-1610063999@www.abcm-unseri-schuel.org
SUMMARY:Date limite candidature CA de ABCM Zweisprachigkeit
DESCRIPTION:Rappel de l’échéances pour déposer sa candidature pour être membre du CA de ABCM Zweisprachigkeit : \nDate limite : 7 janvier 2021  \nPar mail : ag@abcmzwei.org \nDépose de votre candidature avec les motivations qui vous animent pour vous engager. ABCM Zweisprachigkeit gère la partie éducative et chapeaute les associations locales sur certains points. Demain il est question de refonte de la gouvernance. Voici un extrait du rapport moral : \n\n\nLa refonte de la gouvernance\nLe réseau a grandi et doit pouvoir faire face à la gestion de sa croissance et s’adapter à la multiplication des contraintes et des techniques administratives\, des réformes mais aussi des normes. Il a été impératif pour la pérennité de notre réseau de revoir entièrement la gouvernance de l’association à tous les niveaux afin de pouvoir redéfinir les rôles\, missions et responsabilités de chacun: les écoles\, les associations locales\, le conseil d’administration. Différentes étapes en ont découlé et notamment la mise en œuvre de deux audits\, l’un axé sur la refonte du projet associatif et l’autre sur la professionnalisation de l’association.\n\n\n\n\n\nLa démarche est entamée mais nécessitera encore beaucoup d’efforts et d’implications pour concrétiser cette refondation de la gouvernance à travers restructuration et professionnalisation. Le rapport d’activités retrace la mise en place de la commission gouvernance et le travail réalisé.\n\n\nSoyez les acteurs de demain et piloter les décisions de l’école de votre enfant.
URL:https://www.abcm-unseri-schuel.org/event/date-limite-candidature-ca-de-abcm-zweisprachigkeit/
END:VEVENT
END:VCALENDAR